BEGIN:VCALENDAR
VERSION:2.0
PRODID:-//Dober tek, Slovenija! - ECPv6.15.18//NONSGML v1.0//EN
CALSCALE:GREGORIAN
METHOD:PUBLISH
X-ORIGINAL-URL:https://www.dobertekslovenija.si
X-WR-CALDESC:Dogodki za Dober tek, Slovenija!
REFRESH-INTERVAL;VALUE=DURATION:PT1H
X-Robots-Tag:noindex
X-PUBLISHED-TTL:PT1H
BEGIN:VTIMEZONE
TZID:Europe/Ljubljana
BEGIN:DAYLIGHT
TZOFFSETFROM:+0100
TZOFFSETTO:+0200
TZNAME:CEST
DTSTART:20220327T010000
END:DAYLIGHT
BEGIN:STANDARD
TZOFFSETFROM:+0200
TZOFFSETTO:+0100
TZNAME:CET
DTSTART:20221030T010000
END:STANDARD
BEGIN:DAYLIGHT
TZOFFSETFROM:+0100
TZOFFSETTO:+0200
TZNAME:CEST
DTSTART:20230326T010000
END:DAYLIGHT
BEGIN:STANDARD
TZOFFSETFROM:+0200
TZOFFSETTO:+0100
TZNAME:CET
DTSTART:20231029T010000
END:STANDARD
BEGIN:DAYLIGHT
TZOFFSETFROM:+0100
TZOFFSETTO:+0200
TZNAME:CEST
DTSTART:20240331T010000
END:DAYLIGHT
BEGIN:STANDARD
TZOFFSETFROM:+0200
TZOFFSETTO:+0100
TZNAME:CET
DTSTART:20241027T010000
END:STANDARD
END:VTIMEZONE
BEGIN:VEVENT
DTSTART;TZID=Europe/Ljubljana:20231117T080000
DTEND;TZID=Europe/Ljubljana:20231118T170000
DTSTAMP:20260422T184657
CREATED:20230704T130905Z
LAST-MODIFIED:20230704T130905Z
UID:2319-1700208000-1700326800@www.dobertekslovenija.si
SUMMARY:Kongres športa za vse
DESCRIPTION:Olimpijski komite Slovenije-Združenje športnih zvez novembra ponovno vabi na Kongres športa za vse. Letošnja naslovna tema bo posvečena izzivom in priložnostim športa za vse v lokalni skupnosti.
URL:https://www.dobertekslovenija.si/dogodek/kongres-sporta-za-vse/
LOCATION:Ljubljana
END:VEVENT
END:VCALENDAR